BEGIN:VCALENDAR
VERSION:2.0
PRODID:-//StreamRadar//Match Calendar//EN
CALSCALE:GREGORIAN
METHOD:PUBLISH
X-WR-CALNAME:Levante Las Planas vs Athletic Club
X-WR-TIMEZONE:America/New_York
BEGIN:VEVENT
UID:match-5617522@streamradar.soccer
SUMMARY:Levante Las Planas vs Athletic Club
DTSTAMP:20260420T121106Z
DTSTART;TZID=America/New_York:20260502T060000
DTEND;TZID=America/New_York:20260502T080000
LOCATION:Ciudad Deportiva de Bunol
DESCRIPTION:Где смотреть Levante Las Planas – Athletic Club в
  турнире Испания - Примера Дивизион Фемен
 ина. Прямая трансляция и телепрограмма.\nh
 ttps://streamradar.soccer/ru/match/5617522/levante-las-planas-vs-athletic-c
 lub/
URL;VALUE=URI:https://streamradar.soccer/ru/match/5617522/levante-las-plana
 s-vs-athletic-club/
STATUS:CONFIRMED
END:VEVENT
END:VCALENDAR
