BEGIN:VCALENDAR
VERSION:2.0
PRODID:-//StreamRadar//Match Calendar//EN
CALSCALE:GREGORIAN
METHOD:PUBLISH
X-WR-CALNAME:Inter Playa del Carmen vs Durango
X-WR-TIMEZONE:America/New_York
BEGIN:VEVENT
UID:match-5617494@streamradar.soccer
SUMMARY:Inter Playa del Carmen vs Durango
DTSTAMP:20260421T062337Z
DTSTART;TZID=America/New_York:20260422T160000
DTEND;TZID=America/New_York:20260422T180000
LOCATION:Unidad Deportiva Mario Villanueva Madrid (Playa del Carmen)
DESCRIPTION:Где смотреть Inter Playa Del Carmen – Дуранг
 о в турнире Мексика - Liga MX. Прямая трансля
 ия и телепрограмма.\nhttps://streamradar.soccer/ru/match/5
 617494/inter-playa-del-carmen-vs-durango/
URL;VALUE=URI:https://streamradar.soccer/ru/match/5617494/inter-playa-del-c
 armen-vs-durango/
STATUS:CONFIRMED
END:VEVENT
END:VCALENDAR
