BEGIN:VCALENDAR
VERSION:2.0
PRODID:-//StreamRadar//Match Calendar//EN
CALSCALE:GREGORIAN
METHOD:PUBLISH
X-WR-CALNAME:Grobničan Čavle vs Kustošija
X-WR-TIMEZONE:America/New_York
BEGIN:VEVENT
UID:match-5617484@streamradar.soccer
SUMMARY:Grobničan Čavle vs Kustošija
DTSTAMP:20260421T080815Z
DTSTART;TZID=America/New_York:20260502T110000
DTEND;TZID=America/New_York:20260502T130000
DESCRIPTION:Где смотреть Grobničan Čavle – Kustošija в т
 рнире Хорватия - Druga NL. Прямая трансляция 
 и телепрограмма.\nhttps://streamradar.soccer/ru/match/5617484
 /grobnican-cavle-vs-kustosija/
URL;VALUE=URI:https://streamradar.soccer/ru/match/5617484/grobnican-cavle-v
 s-kustosija/
STATUS:CONFIRMED
END:VEVENT
END:VCALENDAR
