BEGIN:VCALENDAR
VERSION:2.0
PRODID:-//StreamRadar//Match Calendar//EN
CALSCALE:GREGORIAN
METHOD:PUBLISH
X-WR-CALNAME:Gharraf vs Al Minaa Basra
X-WR-TIMEZONE:America/New_York
BEGIN:VEVENT
UID:match-5617415@streamradar.soccer
SUMMARY:Gharraf vs Al Minaa Basra
DTSTAMP:20260421T104155Z
DTSTART;TZID=America/New_York:20260428T100000
DTEND;TZID=America/New_York:20260428T120000
DESCRIPTION:Где смотреть Gharraf – Аль-Минаа Баср
  в турнире Иракская Премьер-лига. Прямая 
 трансляция и телепрограмма.\nhttps://streamradar.so
 ccer/ru/match/5617415/gharraf-vs-al-minaa-basra/
URL;VALUE=URI:https://streamradar.soccer/ru/match/5617415/gharraf-vs-al-min
 aa-basra/
STATUS:CONFIRMED
END:VEVENT
END:VCALENDAR
