BEGIN:VCALENDAR
VERSION:2.0
PRODID:-//StreamRadar//Match Calendar//EN
CALSCALE:GREGORIAN
METHOD:PUBLISH
X-WR-CALNAME:Al Kahrabaa vs Al Karkh
X-WR-TIMEZONE:America/New_York
BEGIN:VEVENT
UID:match-5617410@streamradar.soccer
SUMMARY:Al Kahrabaa vs Al Karkh
DTSTAMP:20260421T084247Z
DTSTART;TZID=America/New_York:20260427T100000
DTEND;TZID=America/New_York:20260427T120000
DESCRIPTION:Где смотреть Карба – Аль-Карх в ту
 нире Иракская Премьер-лига. Прямая транс
 ляция и телепрограмма.\nhttps://streamradar.soccer/ru/ma
 tch/5617410/al-kahrabaa-vs-al-karkh/
URL;VALUE=URI:https://streamradar.soccer/ru/match/5617410/al-kahrabaa-vs-al
 -karkh/
STATUS:CONFIRMED
END:VEVENT
END:VCALENDAR
