BEGIN:VCALENDAR
VERSION:2.0
PRODID:-//StreamRadar//Match Calendar//EN
CALSCALE:GREGORIAN
METHOD:PUBLISH
X-WR-CALNAME:Barry Town vs Haverfordwest County
X-WR-TIMEZONE:America/New_York
BEGIN:VEVENT
UID:match-5617403@streamradar.soccer
SUMMARY:Barry Town vs Haverfordwest County
DTSTAMP:20260420T235348Z
DTSTART;TZID=America/New_York:20260426T120000
DTEND;TZID=America/New_York:20260426T140000
LOCATION:Jenner Park
DESCRIPTION:Где смотреть Barry Town – Haverfordwest County в 
 турнире Уэльс - Premier League. Прямая трансляци
 я и телепрограмма.\nhttps://streamradar.soccer/ru/match/5617
 403/barry-town-vs-haverfordwest-county/
URL;VALUE=URI:https://streamradar.soccer/ru/match/5617403/barry-town-vs-hav
 erfordwest-county/
STATUS:CONFIRMED
END:VEVENT
END:VCALENDAR
