BEGIN:VCALENDAR
VERSION:2.0
PRODID:-//StreamRadar//Match Calendar//EN
CALSCALE:GREGORIAN
METHOD:PUBLISH
X-WR-CALNAME:Hapoel Petah Tikva vs Beitar Jerusalem
X-WR-TIMEZONE:America/New_York
BEGIN:VEVENT
UID:match-5617399@streamradar.soccer
SUMMARY:Hapoel Petah Tikva vs Beitar Jerusalem
DTSTAMP:20260421T104525Z
DTSTART;TZID=America/New_York:20260519T130000
DTEND;TZID=America/New_York:20260519T150000
LOCATION:HaMoshava Stadium
DESCRIPTION:Где смотреть Хапоэль (Петах-Тиква) 
 – Бейтар (Иерусалим) в турнире Израиль - Л
 ига Ха'Аль. Прямая трансляция и телепрогр
 амма.\nhttps://streamradar.soccer/ru/match/5617399/hapoel-petah-tikva-v
 s-beitar-jerusalem/
URL;VALUE=URI:https://streamradar.soccer/ru/match/5617399/hapoel-petah-tikv
 a-vs-beitar-jerusalem/
STATUS:CONFIRMED
END:VEVENT
END:VCALENDAR
