BEGIN:VCALENDAR
VERSION:2.0
PRODID:-//StreamRadar//Match Calendar//EN
CALSCALE:GREGORIAN
METHOD:PUBLISH
X-WR-CALNAME:Ecuador U17 vs Uruguay U17
X-WR-TIMEZONE:America/New_York
BEGIN:VEVENT
UID:match-5617380@streamradar.soccer
SUMMARY:Ecuador U17 vs Uruguay U17
DTSTAMP:20260420T063308Z
DTSTART;TZID=America/New_York:20260501T160000
DTEND;TZID=America/New_York:20260501T180000
DESCRIPTION:Где смотреть Эквадор до 17 – Уругва
 й до 17 в турнире Чемпионат Южной Америки 
 реди девушек до 17 лет. Прямая трансляция 
 и телепрограмма.\nhttps://streamradar.soccer/ru/match/5617380
 /ecuador-u17-vs-uruguay-u17/
URL;VALUE=URI:https://streamradar.soccer/ru/match/5617380/ecuador-u17-vs-ur
 uguay-u17/
STATUS:CONFIRMED
END:VEVENT
END:VCALENDAR
