BEGIN:VCALENDAR
VERSION:2.0
PRODID:-//StreamRadar//Match Calendar//EN
CALSCALE:GREGORIAN
METHOD:PUBLISH
X-WR-CALNAME:Colombia U17 vs Chile U17
X-WR-TIMEZONE:America/New_York
BEGIN:VEVENT
UID:match-5617375@streamradar.soccer
SUMMARY:Colombia U17 vs Chile U17
DTSTAMP:20260420T060931Z
DTSTART;TZID=America/New_York:20260428T190000
DTEND;TZID=America/New_York:20260428T210000
DESCRIPTION:Где смотреть Колумбия до 17 – Чили 
 о 17 в турнире Чемпионат Южной Америки ср
 ди девушек до 17 лет. Прямая трансляция и 
 елепрограмма.\nhttps://streamradar.soccer/ru/match/5617375/col
 ombia-u17-vs-chile-u17/
URL;VALUE=URI:https://streamradar.soccer/ru/match/5617375/colombia-u17-vs-c
 hile-u17/
STATUS:CONFIRMED
END:VEVENT
END:VCALENDAR
