BEGIN:VCALENDAR
VERSION:2.0
PRODID:-//StreamRadar//Match Calendar//EN
CALSCALE:GREGORIAN
METHOD:PUBLISH
X-WR-CALNAME:Bolivia U17 vs Paraguay U17
X-WR-TIMEZONE:America/New_York
BEGIN:VEVENT
UID:match-5617371@streamradar.soccer
SUMMARY:Bolivia U17 vs Paraguay U17
DTSTAMP:20260420T062119Z
DTSTART;TZID=America/New_York:20260426T190000
DTEND;TZID=America/New_York:20260426T210000
DESCRIPTION:Где смотреть Боливия до 17 – Парагв
 ай до 17 в турнире Чемпионат Южной Америки
  среди девушек до 17 лет. Прямая трансляци
  и телепрограмма.\nhttps://streamradar.soccer/ru/match/56173
 71/bolivia-u17-vs-paraguay-u17/
URL;VALUE=URI:https://streamradar.soccer/ru/match/5617371/bolivia-u17-vs-pa
 raguay-u17/
STATUS:CONFIRMED
END:VEVENT
END:VCALENDAR
