BEGIN:VCALENDAR
VERSION:2.0
PRODID:-//StreamRadar//Match Calendar//EN
CALSCALE:GREGORIAN
METHOD:PUBLISH
X-WR-CALNAME:Uruguay U17 vs Peru U17
X-WR-TIMEZONE:America/New_York
BEGIN:VEVENT
UID:match-5617368@streamradar.soccer
SUMMARY:Uruguay U17 vs Peru U17
DTSTAMP:20260420T060602Z
DTSTART;TZID=America/New_York:20260425T160000
DTEND;TZID=America/New_York:20260425T180000
DESCRIPTION:Где смотреть Уругвай до 17 – Перу д
  17 в турнире Чемпионат Южной Америки сре
 и девушек до 17 лет. Прямая трансляция и т
 лепрограмма.\nhttps://streamradar.soccer/ru/match/5617368/urugu
 ay-u17-vs-peru-u17/
URL;VALUE=URI:https://streamradar.soccer/ru/match/5617368/uruguay-u17-vs-pe
 ru-u17/
STATUS:CONFIRMED
END:VEVENT
END:VCALENDAR
