BEGIN:VCALENDAR
VERSION:2.0
PRODID:-//StreamRadar//Match Calendar//EN
CALSCALE:GREGORIAN
METHOD:PUBLISH
X-WR-CALNAME:Bolivia U17 vs Chile U17
X-WR-TIMEZONE:America/New_York
BEGIN:VEVENT
UID:match-5617366@streamradar.soccer
SUMMARY:Bolivia U17 vs Chile U17
DTSTAMP:20260420T060626Z
DTSTART;TZID=America/New_York:20260424T160000
DTEND;TZID=America/New_York:20260424T180000
DESCRIPTION:Где смотреть Боливия до 17 – Чили д
  17 в турнире Чемпионат Южной Америки сре
 и девушек до 17 лет. Прямая трансляция и т
 лепрограмма.\nhttps://streamradar.soccer/ru/match/5617366/boliv
 ia-u17-vs-chile-u17/
URL;VALUE=URI:https://streamradar.soccer/ru/match/5617366/bolivia-u17-vs-ch
 ile-u17/
STATUS:CONFIRMED
END:VEVENT
END:VCALENDAR
