BEGIN:VCALENDAR
VERSION:2.0
PRODID:-//StreamRadar//Match Calendar//EN
CALSCALE:GREGORIAN
METHOD:PUBLISH
X-WR-CALNAME:Kavala vs Makedonikos Neapolis
X-WR-TIMEZONE:America/New_York
BEGIN:VEVENT
UID:match-5617045@streamradar.soccer
SUMMARY:Kavala vs Makedonikos Neapolis
DTSTAMP:20260421T092443Z
DTSTART;TZID=America/New_York:20260422T080000
DTEND;TZID=America/New_York:20260422T100000
LOCATION:Dimotiko Stadio Anthi Karagianni (Kavala)
DESCRIPTION:Где смотреть Kavala – Makedonikos Neapolis в ту
 рнире Греция - Super League 2. Прямая трансляция
  и телепрограмма.\nhttps://streamradar.soccer/ru/match/561704
 5/kavala-vs-makedonikos-neapolis/
URL;VALUE=URI:https://streamradar.soccer/ru/match/5617045/kavala-vs-makedon
 ikos-neapolis/
STATUS:CONFIRMED
END:VEVENT
END:VCALENDAR
