BEGIN:VCALENDAR
VERSION:2.0
PRODID:-//StreamRadar//Match Calendar//EN
CALSCALE:GREGORIAN
METHOD:PUBLISH
X-WR-CALNAME:Huima / Urho vs Vaajakoski
X-WR-TIMEZONE:America/New_York
BEGIN:VEVENT
UID:match-5617014@streamradar.soccer
SUMMARY:Huima / Urho vs Vaajakoski
DTSTAMP:20260419T122256Z
DTSTART;TZID=America/New_York:20260516T090000
DTEND;TZID=America/New_York:20260516T110000
DESCRIPTION:Где смотреть Huima / Urho – Vaajakoski в турн
 ире Финляндия - Kakkonen. Прямая трансляция и 
 телепрограмма.\nhttps://streamradar.soccer/ru/match/5617014/hu
 ima-urho-vs-vaajakoski/
URL;VALUE=URI:https://streamradar.soccer/ru/match/5617014/huima-urho-vs-vaa
 jakoski/
STATUS:CONFIRMED
END:VEVENT
END:VCALENDAR
