BEGIN:VCALENDAR
VERSION:2.0
PRODID:-//StreamRadar//Match Calendar//EN
CALSCALE:GREGORIAN
METHOD:PUBLISH
X-WR-CALNAME:Jaro 2 vs Vaajakoski
X-WR-TIMEZONE:America/New_York
BEGIN:VEVENT
UID:match-5617005@streamradar.soccer
SUMMARY:Jaro 2 vs Vaajakoski
DTSTAMP:20260419T121801Z
DTSTART;TZID=America/New_York:20260503T090000
DTEND;TZID=America/New_York:20260503T110000
LOCATION:Project Liv Arena
DESCRIPTION:Где смотреть Jaro 2 – Vaajakoski в турнире
  Финляндия - Kakkonen. Прямая трансляция и тел
 епрограмма.\nhttps://streamradar.soccer/ru/match/5617005/jaro-2-v
 s-vaajakoski/
URL;VALUE=URI:https://streamradar.soccer/ru/match/5617005/jaro-2-vs-vaajako
 ski/
STATUS:CONFIRMED
END:VEVENT
END:VCALENDAR
