BEGIN:VCALENDAR
VERSION:2.0
PRODID:-//StreamRadar//Match Calendar//EN
CALSCALE:GREGORIAN
METHOD:PUBLISH
X-WR-CALNAME:Vaajakoski vs JS Hercules
X-WR-TIMEZONE:America/New_York
BEGIN:VEVENT
UID:match-5617003@streamradar.soccer
SUMMARY:Vaajakoski vs JS Hercules
DTSTAMP:20260421T062843Z
DTSTART;TZID=America/New_York:20260425T113000
DTEND;TZID=America/New_York:20260425T133000
LOCATION:Vaajakosken keskuskentta
DESCRIPTION:Где смотреть Vaajakoski – JS Hercules в турн
 ре Финляндия - Kakkonen. Прямая трансляция и 
 елепрограмма.\nhttps://streamradar.soccer/ru/match/5617003/vaa
 jakoski-vs-js-hercules/
URL;VALUE=URI:https://streamradar.soccer/ru/match/5617003/vaajakoski-vs-js-
 hercules/
STATUS:CONFIRMED
END:VEVENT
END:VCALENDAR
