BEGIN:VCALENDAR
VERSION:2.0
PRODID:-//StreamRadar//Match Calendar//EN
CALSCALE:GREGORIAN
METHOD:PUBLISH
X-WR-CALNAME:Sjk Akatemia 2 vs Jaro 2
X-WR-TIMEZONE:America/New_York
BEGIN:VEVENT
UID:match-5616999@streamradar.soccer
SUMMARY:Sjk Akatemia 2 vs Jaro 2
DTSTAMP:20260419T122419Z
DTSTART;TZID=America/New_York:20260422T113000
DTEND;TZID=America/New_York:20260422T133000
LOCATION:OmaSp Stadion
DESCRIPTION:Где смотреть Sjk Akatemia 2 – Jaro 2 в турни
 ре Финляндия - Kakkonen. Прямая трансляция и т
 елепрограмма.\nhttps://streamradar.soccer/ru/match/5616999/sjk-
 akatemia-2-vs-jaro-2/
URL;VALUE=URI:https://streamradar.soccer/ru/match/5616999/sjk-akatemia-2-vs
 -jaro-2/
STATUS:CONFIRMED
END:VEVENT
END:VCALENDAR
