BEGIN:VCALENDAR
VERSION:2.0
PRODID:-//StreamRadar//Match Calendar//EN
CALSCALE:GREGORIAN
METHOD:PUBLISH
X-WR-CALNAME:MuSa vs HJS Akatemia
X-WR-TIMEZONE:America/New_York
BEGIN:VEVENT
UID:match-5616987@streamradar.soccer
SUMMARY:MuSa vs HJS Akatemia
DTSTAMP:20260421T062359Z
DTSTART;TZID=America/New_York:20260509T090000
DTEND;TZID=America/New_York:20260509T110000
LOCATION:Porin Stadion
DESCRIPTION:Где смотреть МуСа – HJS Akatemia в турни
 ре Финляндия - Kakkonen. Прямая трансляция и т
 елепрограмма.\nhttps://streamradar.soccer/ru/match/5616987/musa
 -vs-hjs-akatemia/
URL;VALUE=URI:https://streamradar.soccer/ru/match/5616987/musa-vs-hjs-akate
 mia/
STATUS:CONFIRMED
END:VEVENT
END:VCALENDAR
