BEGIN:VCALENDAR
VERSION:2.0
PRODID:-//StreamRadar//Match Calendar//EN
CALSCALE:GREGORIAN
METHOD:PUBLISH
X-WR-CALNAME:Ilves II vs ÅIFK
X-WR-TIMEZONE:America/New_York
BEGIN:VEVENT
UID:match-5616983@streamradar.soccer
SUMMARY:Ilves II vs ÅIFK
DTSTAMP:20260419T121908Z
DTSTART;TZID=America/New_York:20260505T120000
DTEND;TZID=America/New_York:20260505T140000
LOCATION:Tammelan Stadion
DESCRIPTION:Где смотреть Ilves II – ÅIFK в турнире Ф
 инляндия - Kakkonen. Прямая трансляция и теле
 рограмма.\nhttps://streamradar.soccer/ru/match/5616983/ilves-ii-vs
 -aifk/
URL;VALUE=URI:https://streamradar.soccer/ru/match/5616983/ilves-ii-vs-aifk/
STATUS:CONFIRMED
END:VEVENT
END:VCALENDAR
