BEGIN:VCALENDAR
VERSION:2.0
PRODID:-//StreamRadar//Match Calendar//EN
CALSCALE:GREGORIAN
METHOD:PUBLISH
X-WR-CALNAME:EPS vs Ilves II
X-WR-TIMEZONE:America/New_York
BEGIN:VEVENT
UID:match-5616977@streamradar.soccer
SUMMARY:EPS vs Ilves II
DTSTAMP:20260419T120200Z
DTSTART;TZID=America/New_York:20260425T100000
DTEND;TZID=America/New_York:20260425T120000
LOCATION:Espoonlahden urheilupuisto
DESCRIPTION:Где смотреть EPS – Ilves II в турнире Фи
 нляндия - Kakkonen. Прямая трансляция и телеп
 ограмма.\nhttps://streamradar.soccer/ru/match/5616977/eps-vs-ilves-
 ii/
URL;VALUE=URI:https://streamradar.soccer/ru/match/5616977/eps-vs-ilves-ii/
STATUS:CONFIRMED
END:VEVENT
END:VCALENDAR
