BEGIN:VCALENDAR
VERSION:2.0
PRODID:-//StreamRadar//Match Calendar//EN
CALSCALE:GREGORIAN
METHOD:PUBLISH
X-WR-CALNAME:Xiamen Chengyi vs Shenzhen 2028
X-WR-TIMEZONE:America/New_York
BEGIN:VEVENT
UID:match-5616941@streamradar.soccer
SUMMARY:Xiamen Chengyi vs Shenzhen 2028
DTSTAMP:20260420T120841Z
DTSTART;TZID=America/New_York:20260420T030000
DTEND;TZID=America/New_York:20260420T050000
DESCRIPTION:Где смотреть Xiamen Chengyi – Shenzhen 2028 в т
 рнире Кубок Англии. Прямая трансляция и 
 елепрограмма.\nhttps://streamradar.soccer/ru/match/5616941/xia
 men-chengyi-vs-shenzhen-2028/
URL;VALUE=URI:https://streamradar.soccer/ru/match/5616941/xiamen-chengyi-vs
 -shenzhen-2028/
STATUS:CONFIRMED
END:VEVENT
END:VCALENDAR
