BEGIN:VCALENDAR
VERSION:2.0
PRODID:-//StreamRadar//Match Calendar//EN
CALSCALE:GREGORIAN
METHOD:PUBLISH
X-WR-CALNAME:Ethiopia Bunna vs Mekelakeya
X-WR-TIMEZONE:America/New_York
BEGIN:VEVENT
UID:match-5616920@streamradar.soccer
SUMMARY:Ethiopia Bunna vs Mekelakeya
DTSTAMP:20260421T063120Z
DTSTART;TZID=America/New_York:20260509T110000
DTEND;TZID=America/New_York:20260509T130000
DESCRIPTION:Где смотреть Ethiopia Bunna – Mekelakeya в тур
 нире Эфиопия - Premier League (in Ethiopia). Прямая тра
 нсляция и телепрограмма.\nhttps://streamradar.soccer/r
 u/match/5616920/ethiopia-bunna-vs-mekelakeya/
URL;VALUE=URI:https://streamradar.soccer/ru/match/5616920/ethiopia-bunna-vs
 -mekelakeya/
STATUS:CONFIRMED
END:VEVENT
END:VCALENDAR
