BEGIN:VCALENDAR
VERSION:2.0
PRODID:-//StreamRadar//Match Calendar//EN
CALSCALE:GREGORIAN
METHOD:PUBLISH
X-WR-CALNAME:Hadiya Hosaena vs Awassa Kenema
X-WR-TIMEZONE:America/New_York
BEGIN:VEVENT
UID:match-5616919@streamradar.soccer
SUMMARY:Hadiya Hosaena vs Awassa Kenema
DTSTAMP:20260421T092516Z
DTSTART;TZID=America/New_York:20260509T090000
DTEND;TZID=America/New_York:20260509T110000
DESCRIPTION:Где смотреть Hadiya Hosaena – Awassa Kenema в т
 рнире Эфиопия - Premier League (in Ethiopia). Прямая т
 ансляция и телепрограмма.\nhttps://streamradar.socce
 r/ru/match/5616919/hadiya-hosaena-vs-awassa-kenema/
URL;VALUE=URI:https://streamradar.soccer/ru/match/5616919/hadiya-hosaena-vs
 -awassa-kenema/
STATUS:CONFIRMED
END:VEVENT
END:VCALENDAR
