BEGIN:VCALENDAR
VERSION:2.0
PRODID:-//StreamRadar//Match Calendar//EN
CALSCALE:GREGORIAN
METHOD:PUBLISH
X-WR-CALNAME:Suhul Shire vs Mebrat Hayl (EEPCO)
X-WR-TIMEZONE:America/New_York
BEGIN:VEVENT
UID:match-5616913@streamradar.soccer
SUMMARY:Suhul Shire vs Mebrat Hayl (EEPCO)
DTSTAMP:20260421T120501Z
DTSTART;TZID=America/New_York:20260505T110000
DTEND;TZID=America/New_York:20260505T130000
DESCRIPTION:Где смотреть Suhul Shire – Mebrat Hayl (EEPCO) в 
 турнире Эфиопия - Premier League (in Ethiopia). Прямая 
 трансляция и телепрограмма.\nhttps://streamradar.so
 ccer/ru/match/5616913/suhul-shire-vs-mebrat-hayl-eepco/
URL;VALUE=URI:https://streamradar.soccer/ru/match/5616913/suhul-shire-vs-me
 brat-hayl-eepco/
STATUS:CONFIRMED
END:VEVENT
END:VCALENDAR
