BEGIN:VCALENDAR
VERSION:2.0
PRODID:-//StreamRadar//Match Calendar//EN
CALSCALE:GREGORIAN
METHOD:PUBLISH
X-WR-CALNAME:Mekelle 70 Enderta vs Arba Minch Kenema
X-WR-TIMEZONE:America/New_York
BEGIN:VEVENT
UID:match-5616912@streamradar.soccer
SUMMARY:Mekelle 70 Enderta vs Arba Minch Kenema
DTSTAMP:20260421T104448Z
DTSTART;TZID=America/New_York:20260505T090000
DTEND;TZID=America/New_York:20260505T110000
DESCRIPTION:Где смотреть Mekelle 70 Enderta – Arba Minch Kenem
 a в турнире Эфиопия - Premier League (in Ethiopia). Прям
 ая трансляция и телепрограмма.\nhttps://streamrad
 ar.soccer/ru/match/5616912/mekelle-70-enderta-vs-arba-minch-kenema/
URL;VALUE=URI:https://streamradar.soccer/ru/match/5616912/mekelle-70-endert
 a-vs-arba-minch-kenema/
STATUS:CONFIRMED
END:VEVENT
END:VCALENDAR
