BEGIN:VCALENDAR
VERSION:2.0
PRODID:-//StreamRadar//Match Calendar//EN
CALSCALE:GREGORIAN
METHOD:PUBLISH
X-WR-CALNAME:Mebrat Hayl (EEPCO) vs Mekelakeya
X-WR-TIMEZONE:America/New_York
BEGIN:VEVENT
UID:match-5616898@streamradar.soccer
SUMMARY:Mebrat Hayl (EEPCO) vs Mekelakeya
DTSTAMP:20260421T050817Z
DTSTART;TZID=America/New_York:20260429T080000
DTEND;TZID=America/New_York:20260429T100000
DESCRIPTION:Где смотреть Mebrat Hayl (EEPCO) – Mekelakeya в 
 урнире Эфиопия - Premier League (in Ethiopia). Прямая 
 рансляция и телепрограмма.\nhttps://streamradar.soc
 cer/ru/match/5616898/mebrat-hayl-eepco-vs-mekelakeya/
URL;VALUE=URI:https://streamradar.soccer/ru/match/5616898/mebrat-hayl-eepco
 -vs-mekelakeya/
STATUS:CONFIRMED
END:VEVENT
END:VCALENDAR
