BEGIN:VCALENDAR
VERSION:2.0
PRODID:-//StreamRadar//Match Calendar//EN
CALSCALE:GREGORIAN
METHOD:PUBLISH
X-WR-CALNAME:Spartakos Kitiou vs Halkanoras
X-WR-TIMEZONE:America/New_York
BEGIN:VEVENT
UID:match-5616890@streamradar.soccer
SUMMARY:Spartakos Kitiou vs Halkanoras
DTSTAMP:20260421T050753Z
DTSTART;TZID=America/New_York:20260421T100000
DTEND;TZID=America/New_York:20260421T120000
LOCATION:Koinotiko Stadio Kitiou (Kiti)
DESCRIPTION:Где смотреть Spartakos Kitiou – Halkanoras в ту
 рнире Вторая дивизия Кипра. Прямая транс
 яция и телепрограмма.\nhttps://streamradar.soccer/ru/mat
 ch/5616890/spartakos-kitiou-vs-halkanoras/
URL;VALUE=URI:https://streamradar.soccer/ru/match/5616890/spartakos-kitiou-
 vs-halkanoras/
STATUS:CONFIRMED
END:VEVENT
END:VCALENDAR
