BEGIN:VCALENDAR
VERSION:2.0
PRODID:-//StreamRadar//Match Calendar//EN
CALSCALE:GREGORIAN
METHOD:PUBLISH
X-WR-CALNAME:Ararat-Armenia vs Noah
X-WR-TIMEZONE:America/New_York
BEGIN:VEVENT
UID:match-5616880@streamradar.soccer
SUMMARY:Ararat-Armenia vs Noah
DTSTAMP:20260419T122048Z
DTSTART;TZID=America/New_York:20260510T100000
DTEND;TZID=America/New_York:20260510T120000
LOCATION:Football Academy Stadium
DESCRIPTION:Где смотреть Ararat-Armenia – Noah в турнир
 е Премьер-Лига Армении. Прямая трансляци
  и телепрограмма.\nhttps://streamradar.soccer/ru/match/56168
 80/ararat-armenia-vs-noah/
URL;VALUE=URI:https://streamradar.soccer/ru/match/5616880/ararat-armenia-vs
 -noah/
STATUS:CONFIRMED
END:VEVENT
END:VCALENDAR
