BEGIN:VCALENDAR
VERSION:2.0
PRODID:-//StreamRadar//Match Calendar//EN
CALSCALE:GREGORIAN
METHOD:PUBLISH
X-WR-CALNAME:Pyunik vs BKMA
X-WR-TIMEZONE:America/New_York
BEGIN:VEVENT
UID:match-5616878@streamradar.soccer
SUMMARY:Pyunik vs BKMA
DTSTAMP:20260421T062036Z
DTSTART;TZID=America/New_York:20260509T110000
DTEND;TZID=America/New_York:20260509T130000
LOCATION:Junior Sport Stadium
DESCRIPTION:Где смотреть Пюник – BKMA в турнире 
 ремьер-Лига Армении. Прямая трансляция и
  телепрограмма.\nhttps://streamradar.soccer/ru/match/5616878/p
 yunik-vs-bkma/
URL;VALUE=URI:https://streamradar.soccer/ru/match/5616878/pyunik-vs-bkma/
STATUS:CONFIRMED
END:VEVENT
END:VCALENDAR
