BEGIN:VCALENDAR
VERSION:2.0
PRODID:-//StreamRadar//Match Calendar//EN
CALSCALE:GREGORIAN
METHOD:PUBLISH
X-WR-CALNAME:Shirak vs Ararat
X-WR-TIMEZONE:America/New_York
BEGIN:VEVENT
UID:match-5616871@streamradar.soccer
SUMMARY:Shirak vs Ararat
DTSTAMP:20260419T120639Z
DTSTART;TZID=America/New_York:20260501T080000
DTEND;TZID=America/New_York:20260501T100000
LOCATION:Gyumri City Stadium
DESCRIPTION:Где смотреть Ширак – Арарат в турн
 ире Премьер-Лига Армении. Прямая трансля
 ия и телепрограмма.\nhttps://streamradar.soccer/ru/match/5
 616871/shirak-vs-ararat/
URL;VALUE=URI:https://streamradar.soccer/ru/match/5616871/shirak-vs-ararat/
STATUS:CONFIRMED
END:VEVENT
END:VCALENDAR
