BEGIN:VCALENDAR
VERSION:2.0
PRODID:-//StreamRadar//Match Calendar//EN
CALSCALE:GREGORIAN
METHOD:PUBLISH
X-WR-CALNAME:Ibri vs Dhufar
X-WR-TIMEZONE:America/New_York
BEGIN:VEVENT
UID:match-5616866@streamradar.soccer
SUMMARY:Ibri vs Dhufar
DTSTAMP:20260421T092848Z
DTSTART;TZID=America/New_York:20260518T112000
DTEND;TZID=America/New_York:20260518T132000
DESCRIPTION:Где смотреть Ibri – Дхуфар в турнире
  Оманская лига. Прямая трансляция и телеп
 рограмма.\nhttps://streamradar.soccer/ru/match/5616866/ibri-vs-dhuf
 ar/
URL;VALUE=URI:https://streamradar.soccer/ru/match/5616866/ibri-vs-dhufar/
STATUS:CONFIRMED
END:VEVENT
END:VCALENDAR
