BEGIN:VCALENDAR
VERSION:2.0
PRODID:-//StreamRadar//Match Calendar//EN
CALSCALE:GREGORIAN
METHOD:PUBLISH
X-WR-CALNAME:Waterford United vs Drogheda United
X-WR-TIMEZONE:America/New_York
BEGIN:VEVENT
UID:match-5616839@streamradar.soccer
SUMMARY:Waterford United vs Drogheda United
DTSTAMP:20260419T122531Z
DTSTART;TZID=America/New_York:20260518T144500
DTEND;TZID=America/New_York:20260518T164500
LOCATION:Regional Sports Centre
DESCRIPTION:Где смотреть Waterford United – Drogheda United в
  турнире Premier Division. Прямая трансляция и те
 лепрограмма.\nhttps://streamradar.soccer/ru/match/5616839/waterf
 ord-united-vs-drogheda-united/
URL;VALUE=URI:https://streamradar.soccer/ru/match/5616839/waterford-united-
 vs-drogheda-united/
STATUS:CONFIRMED
END:VEVENT
END:VCALENDAR
