BEGIN:VCALENDAR
VERSION:2.0
PRODID:-//StreamRadar//Match Calendar//EN
CALSCALE:GREGORIAN
METHOD:PUBLISH
X-WR-CALNAME:Lokomotiv Sofia 1929 vs Beroe
X-WR-TIMEZONE:America/New_York
BEGIN:VEVENT
UID:match-5616832@streamradar.soccer
SUMMARY:Lokomotiv Sofia 1929 vs Beroe
DTSTAMP:20260419T122206Z
DTSTART;TZID=America/New_York:20260513T110000
DTEND;TZID=America/New_York:20260513T130000
LOCATION:Stadion Lokomotiv
DESCRIPTION:Где смотреть Lokomotiv Sofia 1929 – Берое в 
 турнире Болгария - Первая Лига. Прямая тр
 нсляция и телепрограмма.\nhttps://streamradar.soccer/
 ru/match/5616832/lokomotiv-sofia-1929-vs-beroe/
URL;VALUE=URI:https://streamradar.soccer/ru/match/5616832/lokomotiv-sofia-1
 929-vs-beroe/
STATUS:CONFIRMED
END:VEVENT
END:VCALENDAR
