BEGIN:VCALENDAR
VERSION:2.0
PRODID:-//StreamRadar//Match Calendar//EN
CALSCALE:GREGORIAN
METHOD:PUBLISH
X-WR-CALNAME:Beroe vs Montana
X-WR-TIMEZONE:America/New_York
BEGIN:VEVENT
UID:match-5616823@streamradar.soccer
SUMMARY:Beroe vs Montana
DTSTAMP:20260419T121429Z
DTSTART;TZID=America/New_York:20260506T110000
DTEND;TZID=America/New_York:20260506T130000
LOCATION:Stadion Beroe
DESCRIPTION:Где смотреть Берое – Монтана в тур
 нире Болгария - Первая Лига. Прямая транс
 яция и телепрограмма.\nhttps://streamradar.soccer/ru/mat
 ch/5616823/beroe-vs-montana/
URL;VALUE=URI:https://streamradar.soccer/ru/match/5616823/beroe-vs-montana/
STATUS:CONFIRMED
END:VEVENT
END:VCALENDAR
