BEGIN:VCALENDAR
VERSION:2.0
PRODID:-//StreamRadar//Match Calendar//EN
CALSCALE:GREGORIAN
METHOD:PUBLISH
X-WR-CALNAME:Spartak Varna vs Beroe
X-WR-TIMEZONE:America/New_York
BEGIN:VEVENT
UID:match-5616818@streamradar.soccer
SUMMARY:Spartak Varna vs Beroe
DTSTAMP:20260419T122403Z
DTSTART;TZID=America/New_York:20260425T110000
DTEND;TZID=America/New_York:20260425T130000
LOCATION:Stadion Spartak
DESCRIPTION:Где смотреть Spartak Varna – Берое в тур
 ире Болгария - Первая Лига. Прямая трансл
 яция и телепрограмма.\nhttps://streamradar.soccer/ru/matc
 h/5616818/spartak-varna-vs-beroe/
URL;VALUE=URI:https://streamradar.soccer/ru/match/5616818/spartak-varna-vs-
 beroe/
STATUS:CONFIRMED
END:VEVENT
END:VCALENDAR
