BEGIN:VCALENDAR
VERSION:2.0
PRODID:-//StreamRadar//Match Calendar//EN
CALSCALE:GREGORIAN
METHOD:PUBLISH
X-WR-CALNAME:CSKA Sofia vs CSKA 1948
X-WR-TIMEZONE:America/New_York
BEGIN:VEVENT
UID:match-5616811@streamradar.soccer
SUMMARY:CSKA Sofia vs CSKA 1948
DTSTAMP:20260421T114515Z
DTSTART;TZID=America/New_York:20260513T104500
DTEND;TZID=America/New_York:20260513T124500
LOCATION:National Stadium Vasil Levski
DESCRIPTION:Где смотреть ЦСКА (София) – CSKA 1948 в 
 турнире Болгария - Первая Лига. Прямая тр
 нсляция и телепрограмма.\nhttps://streamradar.soccer/
 ru/match/5616811/cska-sofia-vs-cska-1948/
URL;VALUE=URI:https://streamradar.soccer/ru/match/5616811/cska-sofia-vs-csk
 a-1948/
STATUS:CONFIRMED
END:VEVENT
END:VCALENDAR
