BEGIN:VCALENDAR
VERSION:2.0
PRODID:-//StreamRadar//Match Calendar//EN
CALSCALE:GREGORIAN
METHOD:PUBLISH
X-WR-CALNAME:Levski Sofia vs CSKA 1948
X-WR-TIMEZONE:America/New_York
BEGIN:VEVENT
UID:match-5616808@streamradar.soccer
SUMMARY:Levski Sofia vs CSKA 1948
DTSTAMP:20260419T121725Z
DTSTART;TZID=America/New_York:20260502T110000
DTEND;TZID=America/New_York:20260502T130000
LOCATION:Vivacom Arena Georgi Asparuhov
DESCRIPTION:Где смотреть Левски – CSKA 1948 в турн
 ре Болгария - Первая Лига. Прямая трансля
 ция и телепрограмма.\nhttps://streamradar.soccer/ru/match/
 5616808/levski-sofia-vs-cska-1948/
URL;VALUE=URI:https://streamradar.soccer/ru/match/5616808/levski-sofia-vs-c
 ska-1948/
STATUS:CONFIRMED
END:VEVENT
END:VCALENDAR
