BEGIN:VCALENDAR
VERSION:2.0
PRODID:-//StreamRadar//Match Calendar//EN
CALSCALE:GREGORIAN
METHOD:PUBLISH
X-WR-CALNAME:Lokomotiv Plovdiv vs Arda
X-WR-TIMEZONE:America/New_York
BEGIN:VEVENT
UID:match-5616800@streamradar.soccer
SUMMARY:Lokomotiv Plovdiv vs Arda
DTSTAMP:20260419T122232Z
DTSTART;TZID=America/New_York:20260509T110000
DTEND;TZID=America/New_York:20260509T130000
LOCATION:Stadion Lokomotiv
DESCRIPTION:Где смотреть Локомотив (Пловдив) –
  Arda в турнире Болгария - Первая Лига. Прям
 я трансляция и телепрограмма.\nhttps://streamrada
 r.soccer/ru/match/5616800/lokomotiv-plovdiv-vs-arda/
URL;VALUE=URI:https://streamradar.soccer/ru/match/5616800/lokomotiv-plovdiv
 -vs-arda/
STATUS:CONFIRMED
END:VEVENT
END:VCALENDAR
