BEGIN:VCALENDAR
VERSION:2.0
PRODID:-//StreamRadar//Match Calendar//EN
CALSCALE:GREGORIAN
METHOD:PUBLISH
X-WR-CALNAME:Lokomotiv Plovdiv vs Cherno More
X-WR-TIMEZONE:America/New_York
BEGIN:VEVENT
UID:match-5616796@streamradar.soccer
SUMMARY:Lokomotiv Plovdiv vs Cherno More
DTSTAMP:20260419T122431Z
DTSTART;TZID=America/New_York:20260425T110000
DTEND;TZID=America/New_York:20260425T130000
LOCATION:Stadion Lokomotiv
DESCRIPTION:Где смотреть Локомотив (Пловдив) –
  Черно Море в турнире Болгария - Первая Ли
 га. Прямая трансляция и телепрограмма.\nhtt
 ps://streamradar.soccer/ru/match/5616796/lokomotiv-plovdiv-vs-cherno-more/
URL;VALUE=URI:https://streamradar.soccer/ru/match/5616796/lokomotiv-plovdiv
 -vs-cherno-more/
STATUS:CONFIRMED
END:VEVENT
END:VCALENDAR
