BEGIN:VCALENDAR
VERSION:2.0
PRODID:-//StreamRadar//Match Calendar//EN
CALSCALE:GREGORIAN
METHOD:PUBLISH
X-WR-CALNAME:Arka Gdynia vs Nieciecza
X-WR-TIMEZONE:America/New_York
BEGIN:VEVENT
UID:match-5616791@streamradar.soccer
SUMMARY:Arka Gdynia vs Nieciecza
DTSTAMP:20260419T122429Z
DTSTART;TZID=America/New_York:20260518T130000
DTEND;TZID=America/New_York:20260518T150000
LOCATION:Stadion Miejski w Gdyni
DESCRIPTION:Где смотреть Арка Гдыня – Брук-Бет
  Термалица в турнире Польша - Экстракласа
 . Прямая трансляция и телепрограмма.\nhttps:/
 /streamradar.soccer/ru/match/5616791/arka-gdynia-vs-nieciecza/
URL;VALUE=URI:https://streamradar.soccer/ru/match/5616791/arka-gdynia-vs-ni
 eciecza/
STATUS:CONFIRMED
END:VEVENT
END:VCALENDAR
