BEGIN:VCALENDAR
VERSION:2.0
PRODID:-//StreamRadar//Match Calendar//EN
CALSCALE:GREGORIAN
METHOD:PUBLISH
X-WR-CALNAME:Nashville SC vs Los Angeles FC
X-WR-TIMEZONE:America/New_York
BEGIN:VEVENT
UID:match-5616790@streamradar.soccer
SUMMARY:Nashville SC vs Los Angeles FC
DTSTAMP:20260419T123010Z
DTSTART;TZID=America/New_York:20260517T200000
DTEND;TZID=America/New_York:20260517T220000
LOCATION:Geodis Park
DESCRIPTION:Где смотреть Nashville SC – Los Angeles FC в ту
 рнире MLS. Прямая трансляция и телепрограм
 ма.\nhttps://streamradar.soccer/ru/match/5616790/nashville-sc-vs-los-ange
 les-fc/
URL;VALUE=URI:https://streamradar.soccer/ru/match/5616790/nashville-sc-vs-l
 os-angeles-fc/
STATUS:CONFIRMED
END:VEVENT
END:VCALENDAR
