BEGIN:VCALENDAR
VERSION:2.0
PRODID:-//StreamRadar//Match Calendar//EN
CALSCALE:GREGORIAN
METHOD:PUBLISH
X-WR-CALNAME:Khimik Dzerzhinsk vs Dinamo Barnaul
X-WR-TIMEZONE:America/New_York
BEGIN:VEVENT
UID:match-5616276@streamradar.soccer
SUMMARY:Khimik Dzerzhinsk vs Dinamo Barnaul
DTSTAMP:20260421T092414Z
DTSTART;TZID=America/New_York:20260517T090000
DTEND;TZID=America/New_York:20260517T110000
DESCRIPTION:Где смотреть Химик Дзержинск – Ди
 амо-Барнаул в турнире Россия - Вторая Лиг
 а России. Прямая трансляция и телепрогра
 ма.\nhttps://streamradar.soccer/ru/match/5616276/khimik-dzerzhinsk-vs-di
 namo-barnaul/
URL;VALUE=URI:https://streamradar.soccer/ru/match/5616276/khimik-dzerzhinsk
 -vs-dinamo-barnaul/
STATUS:CONFIRMED
END:VEVENT
END:VCALENDAR
