BEGIN:VCALENDAR
VERSION:2.0
PRODID:-//StreamRadar//Match Calendar//EN
CALSCALE:GREGORIAN
METHOD:PUBLISH
X-WR-CALNAME:Tver vs Baltika II
X-WR-TIMEZONE:America/New_York
BEGIN:VEVENT
UID:match-5616272@streamradar.soccer
SUMMARY:Tver vs Baltika II
DTSTAMP:20260421T062314Z
DTSTART;TZID=America/New_York:20260517T090000
DTEND;TZID=America/New_York:20260517T110000
DESCRIPTION:Где смотреть Тверь – Baltika II в турни
 ре Россия - Вторая Лига России. Прямая тра
 нсляция и телепрограмма.\nhttps://streamradar.soccer/r
 u/match/5616272/tver-vs-baltika-ii/
URL;VALUE=URI:https://streamradar.soccer/ru/match/5616272/tver-vs-baltika-i
 i/
STATUS:CONFIRMED
END:VEVENT
END:VCALENDAR
