BEGIN:VCALENDAR
VERSION:2.0
PRODID:-//StreamRadar//Match Calendar//EN
CALSCALE:GREGORIAN
METHOD:PUBLISH
X-WR-CALNAME:Vendsyssel vs AB
X-WR-TIMEZONE:America/New_York
BEGIN:VEVENT
UID:match-5616266@streamradar.soccer
SUMMARY:Vendsyssel vs AB
DTSTAMP:20260421T062035Z
DTSTART;TZID=America/New_York:20260517T070000
DTEND;TZID=America/New_York:20260517T090000
DESCRIPTION:Где смотреть Веннсюссель – АБ в ту
 рнире Дания - 2-й дивизион. Прямая трансля
 ия и телепрограмма.\nhttps://streamradar.soccer/ru/match/5
 616266/vendsyssel-vs-ab/
URL;VALUE=URI:https://streamradar.soccer/ru/match/5616266/vendsyssel-vs-ab/
STATUS:CONFIRMED
END:VEVENT
END:VCALENDAR
