BEGIN:VCALENDAR
VERSION:2.0
PRODID:-//StreamRadar//Match Calendar//EN
CALSCALE:GREGORIAN
METHOD:PUBLISH
X-WR-CALNAME:Petržalka II vs Baník Prievidza
X-WR-TIMEZONE:America/New_York
BEGIN:VEVENT
UID:match-5616207@streamradar.soccer
SUMMARY:Petržalka II vs Baník Prievidza
DTSTAMP:20260421T092522Z
DTSTART;TZID=America/New_York:20260517T093000
DTEND;TZID=America/New_York:20260517T113000
DESCRIPTION:Где смотреть Petržalka II – Baník Prievidza в 
 урнире Словакия - 3-я футбольная лига Сло
 акии. Прямая трансляция и телепрограмма.
 \nhttps://streamradar.soccer/ru/match/5616207/petrzalka-ii-vs-banik-prievid
 za/
URL;VALUE=URI:https://streamradar.soccer/ru/match/5616207/petrzalka-ii-vs-b
 anik-prievidza/
STATUS:CONFIRMED
END:VEVENT
END:VCALENDAR
