BEGIN:VCALENDAR
VERSION:2.0
PRODID:-//StreamRadar//Match Calendar//EN
CALSCALE:GREGORIAN
METHOD:PUBLISH
X-WR-CALNAME:Uerdingen vs Kleve
X-WR-TIMEZONE:America/New_York
BEGIN:VEVENT
UID:match-5616199@streamradar.soccer
SUMMARY:Uerdingen vs Kleve
DTSTAMP:20260421T062216Z
DTSTART;TZID=America/New_York:20260517T090000
DTEND;TZID=America/New_York:20260517T110000
DESCRIPTION:Где смотреть Uerdingen – Kleve в турнире 
 ермания - Оберлига. Прямая трансляция и т
 елепрограмма.\nhttps://streamradar.soccer/ru/match/5616199/uerd
 ingen-vs-kleve/
URL;VALUE=URI:https://streamradar.soccer/ru/match/5616199/uerdingen-vs-klev
 e/
STATUS:CONFIRMED
END:VEVENT
END:VCALENDAR
