BEGIN:VCALENDAR
VERSION:2.0
PRODID:-//StreamRadar//Match Calendar//EN
CALSCALE:GREGORIAN
METHOD:PUBLISH
X-WR-CALNAME:Al Nahda vs Al Seeb
X-WR-TIMEZONE:America/New_York
BEGIN:VEVENT
UID:match-5616194@streamradar.soccer
SUMMARY:Al Nahda vs Al Seeb
DTSTAMP:20260421T102036Z
DTSTART;TZID=America/New_York:20260514T123500
DTEND;TZID=America/New_York:20260514T143500
DESCRIPTION:Где смотреть Аль-Нахда – Al Seeb в тур
 нире Оманская лига. Прямая трансляция и т
 елепрограмма.\nhttps://streamradar.soccer/ru/match/5616194/al-n
 ahda-vs-al-seeb/
URL;VALUE=URI:https://streamradar.soccer/ru/match/5616194/al-nahda-vs-al-se
 eb/
STATUS:CONFIRMED
END:VEVENT
END:VCALENDAR
