BEGIN:VCALENDAR
VERSION:2.0
PRODID:-//StreamRadar//Match Calendar//EN
CALSCALE:GREGORIAN
METHOD:PUBLISH
X-WR-CALNAME:Bahla vs Al Nasr
X-WR-TIMEZONE:America/New_York
BEGIN:VEVENT
UID:match-5616191@streamradar.soccer
SUMMARY:Bahla vs Al Nasr
DTSTAMP:20260421T101325Z
DTSTART;TZID=America/New_York:20260513T123000
DTEND;TZID=America/New_York:20260513T143000
DESCRIPTION:Где смотреть Bahla – Аль-Наср в турни
 ре Оманская лига. Прямая трансляция и тел
 епрограмма.\nhttps://streamradar.soccer/ru/match/5616191/bahla-vs
 -al-nasr/
URL;VALUE=URI:https://streamradar.soccer/ru/match/5616191/bahla-vs-al-nasr/
STATUS:CONFIRMED
END:VEVENT
END:VCALENDAR
