BEGIN:VCALENDAR
VERSION:2.0
PRODID:-//StreamRadar//Match Calendar//EN
CALSCALE:GREGORIAN
METHOD:PUBLISH
X-WR-CALNAME:Al Nasr vs Al Nahda
X-WR-TIMEZONE:America/New_York
BEGIN:VEVENT
UID:match-5616186@streamradar.soccer
SUMMARY:Al Nasr vs Al Nahda
DTSTAMP:20260421T161651Z
DTSTART;TZID=America/New_York:20260504T111500
DTEND;TZID=America/New_York:20260504T131500
DESCRIPTION:Где смотреть Аль-Наср – Аль-Нахда 
  турнире Оманская лига. Прямая трансляци
 я и телепрограмма.\nhttps://streamradar.soccer/ru/match/5616
 186/al-nasr-vs-al-nahda/
URL;VALUE=URI:https://streamradar.soccer/ru/match/5616186/al-nasr-vs-al-nah
 da/
STATUS:CONFIRMED
END:VEVENT
END:VCALENDAR
