BEGIN:VCALENDAR
VERSION:2.0
PRODID:-//StreamRadar//Match Calendar//EN
CALSCALE:GREGORIAN
METHOD:PUBLISH
X-WR-CALNAME:Aris vs Levadiakos
X-WR-TIMEZONE:America/New_York
BEGIN:VEVENT
UID:match-5616107@streamradar.soccer
SUMMARY:Aris vs Levadiakos
DTSTAMP:20260421T062151Z
DTSTART;TZID=America/New_York:20260517T100000
DTEND;TZID=America/New_York:20260517T120000
LOCATION:Kleanthis Vikelidis Stadium
DESCRIPTION:Где смотреть Арис – Левадиакос в т
 урнире Греция - Суперлига Греции. Прямая 
 рансляция и телепрограмма.\nhttps://streamradar.soc
 cer/ru/match/5616107/aris-vs-levadiakos/
URL;VALUE=URI:https://streamradar.soccer/ru/match/5616107/aris-vs-levadiako
 s/
STATUS:CONFIRMED
END:VEVENT
END:VCALENDAR
